BEGIN:VCALENDAR
VERSION:2.0
PRODID:-//eventon.com NONSGML v1.0//EN
CALSCALE:GREGORIAN
METHOD:PUBLISH
BEGIN:VEVENT
UID:69e4c6942aa88
DTSTAMP:20260419T141204
DTSTART:20220414
DTEND:20220418
TZID:Asia/Nicosia
LOCATION:Forest Park Hotel Spyrou Kyprianou 62 Street\,   4820 Pano Platres
SUMMARY:5th KAS Political Academy in Cyprus
DESCRIPTION: *Link for the application below. Konrad-Adenauer-Stiftung\,  in association with the Glafkos Clerides Institute and the Democratic Rally Youth Organization (ΝΕΔΗΣΥ)\,  welcomes applications for its Political Academy in Cyprus\,  which will take place from 15 to 17 April 2022 in Platres\,  Cyprus. The KAS Political Academy offers skills development for young people[..]\nhttps://clerides.org/events/5th-kas-political-academy-in-cyprus/
URL:https://clerides.org/events/5th-kas-political-academy-in-cyprus/
END:VEVENT
END:VCALENDAR