BEGIN:VCALENDAR
VERSION:2.0
PRODID:-//eventon.com NONSGML v1.0//EN
CALSCALE:GREGORIAN
METHOD:PUBLISH
BEGIN:VEVENT
UID:69e7544c4995b
DTSTAMP:20260421T124116
DTSTART:20190420T073000Z
DTEND:20190420T100000Z
TZID:Asia/Nicosia
LOCATION:UCx977lgIUgs8YMVkz0o-aYQ
SUMMARY:100 ΧΡΟΝΙΑ ΓΛΑΥΚΟΣ ΚΛΗΡΙΔΗΣ
DESCRIPTION: Prev 1 of 1 Next 100 Χρόνια Γλαύκος Κληρίδης - Ολόκληρη η Εκδήλωση Μέρος 01 - Εισαγωγή - Μιχάλης Σοφοκλέους Μέρος 02 - Βίντεο - Γλαύκος Κληρίδης - Χρονολόγιο Μέρος 03 - Παρέμβαση Ιωάννη Κασουλίδη Μέρος 04 - Ομιλία Παντελή Κούρου Μέρος 05 - Παρέμβαση Αβέρωφ Νεοφύτου - Βράβευση Π.[..]\nhttps://clerides.org/events/clerides100years/var/event_access
URL:https://clerides.org/events/clerides100years/var/event_access
END:VEVENT
END:VCALENDAR